BEGIN:VCALENDAR
VERSION:2.0
PRODID:SchoolNow
CALSCALE:GREGORIAN
BEGIN:VEVENT
UID:a6f1c2c6-b469-11f0-9655-0285a35182b7
DTSTAMP:20251114T213208Z
SUMMARY:Parent/Teacher Conferences - November 3-7\, 2025 (Minimum Day\, 1:3
 5pm Dismissal)
URL;VALUE=URI:https://www.sylvan.k12.ca.us/schools/stockard-coffee/calendar
 /8758423/parent-teacher-conferences-november-3-7-2025-minimum-day-1-35pm-d
 ismissal
DTSTART;VALUE=DATE:20251103
DTEND;VALUE=DATE:20251108
END:VEVENT
END:VCALENDAR
