BEGIN:VCALENDAR
VERSION:2.0
PRODID:SchoolNow
CALSCALE:GREGORIAN
BEGIN:VEVENT
UID:2a324228-b46a-11f0-9185-02231b95ae21
DTSTAMP:20251029T015411Z
SUMMARY:Glow in the Dark Dance Party - Nov. 20\, 2025
URL;VALUE=URI:https://www.sylvan.k12.ca.us/schools/stockard-coffee/calendar
 /8758424/glow-in-the-dark-dance-party-nov-20-2025
DTSTART:20251121T013000Z
DTEND:20251121T030000Z
ATTACH;FILENAME=;FMTTYPE=application/octet-stream:
END:VEVENT
END:VCALENDAR
