BEGIN:VCALENDAR
VERSION:2.0
PRODID:SchoolNow
CALSCALE:GREGORIAN
BEGIN:VEVENT
UID:612d42be-b46a-11f0-9f1e-0a58a9feac02
DTSTAMP:20251121T160021Z
SUMMARY:Thanksgiving Break - November 26-28\, 2025
URL;VALUE=URI:https://www.sylvan.k12.ca.us/schools/stockard-coffee/calendar
 /8758425/thanksgiving-break-november-27-28-2025
DTSTART;VALUE=DATE:20251126
DTEND;VALUE=DATE:20251128
ATTACH;FILENAME=;FMTTYPE=application/octet-stream:
END:VEVENT
END:VCALENDAR
