BEGIN:VCALENDAR
VERSION:2.0
PRODID:SchoolNow
CALSCALE:GREGORIAN
BEGIN:VEVENT
UID:96664d76-4dcf-11ee-9527-0a58a9feac02
DTSTAMP:20230907T224047Z
SUMMARY:PTA Association Meeting
URL;VALUE=URI:https://www.sylvan.k12.ca.us/schools/woodrow/calendar/4697923
 /pta-association-meeting
DTSTART:20231116T224500Z
DTEND:20231116T234500Z
END:VEVENT
END:VCALENDAR
