BEGIN:VCALENDAR
VERSION:2.0
PRODID:SchoolNow
CALSCALE:GREGORIAN
BEGIN:VEVENT
UID:a89699ba-4dcf-11ee-925e-0a58a9feac02
DTSTAMP:20230907T224117Z
SUMMARY:PTA Association Meeting
URL;VALUE=URI:https://www.sylvan.k12.ca.us/schools/woodrow/calendar/4697924
 /pta-association-meeting
DTSTART:20240125T224500Z
DTEND:20240125T234500Z
END:VEVENT
END:VCALENDAR
