BEGIN:VCALENDAR
VERSION:2.0
PRODID:SchoolNow
CALSCALE:GREGORIAN
BEGIN:VEVENT
UID:bc2d971c-4dcf-11ee-a07d-0a3fbe808629
DTSTAMP:20230907T224150Z
SUMMARY:PTA Association Meeting
URL;VALUE=URI:https://www.sylvan.k12.ca.us/schools/woodrow/calendar/4697925
 /pta-association-meeting
DTSTART:20240215T224500Z
DTEND:20240215T234500Z
END:VEVENT
END:VCALENDAR
