BEGIN:VCALENDAR
VERSION:2.0
PRODID:SchoolNow
CALSCALE:GREGORIAN
BEGIN:VEVENT
UID:d42ea126-4dcf-11ee-8b95-0a58a9feac02
DTSTAMP:20230907T224230Z
SUMMARY:PTA Association Meeting
URL;VALUE=URI:https://www.sylvan.k12.ca.us/schools/woodrow/calendar/4697926
 /pta-association-meeting
DTSTART:20240418T214500Z
DTEND:20240418T224500Z
END:VEVENT
END:VCALENDAR
