BEGIN:VCALENDAR
VERSION:2.0
PRODID:SchoolNow
CALSCALE:GREGORIAN
BEGIN:VEVENT
UID:e6d33210-4dcf-11ee-9d25-0a58a9feac02
DTSTAMP:20230907T224302Z
SUMMARY:PTA Association Meeting
URL;VALUE=URI:https://www.sylvan.k12.ca.us/schools/woodrow/calendar/4697927
 /pta-association-meeting
DTSTART:20240516T214500Z
DTEND:20240516T224500Z
END:VEVENT
END:VCALENDAR
