BEGIN:VCALENDAR
VERSION:2.0
PRODID:SchoolNow
CALSCALE:GREGORIAN
BEGIN:VEVENT
UID:db1b6bf0-63a4-11ee-9d7e-0a58a9feac02
DTSTAMP:20231005T173035Z
SUMMARY:Holiday-No School
URL;VALUE=URI:https://www.sylvan.k12.ca.us/schools/woodrow/calendar/4834147
 /holiday-no-school
DTSTART;VALUE=DATE:20231110
DTEND;VALUE=DATE:20231111
END:VEVENT
END:VCALENDAR
