BEGIN:VCALENDAR
VERSION:2.0
PRODID:SchoolNow
CALSCALE:GREGORIAN
BEGIN:VEVENT
UID:7c03d4b6-6856-11ee-ad64-0a58a9feac02
DTSTAMP:20231011T165155Z
SUMMARY:Math and Science Night
URL;VALUE=URI:https://www.sylvan.k12.ca.us/schools/woodrow/calendar/4854829
 /math-and-science-night
DTSTART:20240126T020000Z
DTEND:20240126T030000Z
END:VEVENT
END:VCALENDAR
