BEGIN:VCALENDAR
VERSION:2.0
PRODID:SchoolNow
CALSCALE:GREGORIAN
BEGIN:VEVENT
UID:3292c6b6-87c8-11ee-810c-0a58a9feac02
DTSTAMP:20231120T171442Z
SUMMARY:Red Robin Dine-Out Night
URL;VALUE=URI:https://www.sylvan.k12.ca.us/schools/woodrow/calendar/4959881
 /red-robin-dine-out-night
DTSTART:20231206T020000Z
DTEND:20231206T050000Z
END:VEVENT
END:VCALENDAR
