BEGIN:VCALENDAR
VERSION:2.0
PRODID:SchoolNow
CALSCALE:GREGORIAN
BEGIN:VEVENT
UID:d7f80738-c76a-11ee-8cbc-0a58a9feac02
DTSTAMP:20240209T164659Z
SUMMARY:Spring Photos Shoob Photography
URL;VALUE=URI:https://www.sylvan.k12.ca.us/schools/woodrow/calendar/5293245
 /spring-photos-shoob-photography
DTSTART;VALUE=DATE:20240227
DTEND;VALUE=DATE:20240228
END:VEVENT
END:VCALENDAR
