BEGIN:VCALENDAR
VERSION:2.0
PRODID:SchoolNow
CALSCALE:GREGORIAN
BEGIN:VEVENT
UID:fdb8f73c-e30f-11ee-872e-0a58a9feac02
DTSTAMP:20240315T210711Z
SUMMARY:Jog-a-thon and Color Run
URL;VALUE=URI:https://www.sylvan.k12.ca.us/schools/woodrow/calendar/5553126
 /jog-a-thon-and-color-run
DTSTART:20240315T201500Z
DTEND:20240315T210000Z
END:VEVENT
END:VCALENDAR
