BEGIN:VCALENDAR
VERSION:2.0
PRODID:SchoolNow
CALSCALE:GREGORIAN
BEGIN:VEVENT
UID:acb5b0d6-e315-11ee-b688-0a58a9feac02
DTSTAMP:20240315T214752Z
SUMMARY:Good Friday- No School
URL;VALUE=URI:https://www.sylvan.k12.ca.us/schools/woodrow/calendar/5553128
 /good-friday-no-school
DTSTART;VALUE=DATE:20240329
DTEND;VALUE=DATE:20240330
END:VEVENT
END:VCALENDAR
