BEGIN:VCALENDAR
VERSION:2.0
PRODID:SchoolNow
CALSCALE:GREGORIAN
BEGIN:VEVENT
UID:b148ca10-0bde-11ef-a353-0a58a9feac02
DTSTAMP:20240506T192735Z
SUMMARY:Lunch with a Loved One
URL;VALUE=URI:https://www.sylvan.k12.ca.us/schools/woodrow/calendar/5924819
 /lunch-with-a-loved-one
DTSTART:20240514T180000Z
DTEND:20240514T200000Z
END:VEVENT
END:VCALENDAR
