BEGIN:VCALENDAR
VERSION:2.0
PRODID:SchoolNow
CALSCALE:GREGORIAN
BEGIN:VEVENT
UID:fa2c9b4a-0bec-11ef-aae1-0a58a9feac02
DTSTAMP:20240506T210950Z
SUMMARY:5th Grade Clap Out
URL;VALUE=URI:https://www.sylvan.k12.ca.us/schools/woodrow/calendar/5924827
 /5th-grade-clap-out
DTSTART:20240524T194000Z
DTEND:20240524T201000Z
END:VEVENT
END:VCALENDAR
