BEGIN:VCALENDAR
VERSION:2.0
PRODID:SchoolNow
CALSCALE:GREGORIAN
BEGIN:VEVENT
UID:2fbca224-c1a3-11f0-9419-0a58a9feac02
DTSTAMP:20260424T095007Z
SUMMARY:Winter Break - No School
URL;VALUE=URI:https://www.sylvan.k12.ca.us/schools/woodrow/calendar/8795966
 /winter-break-no-school
DTSTART;VALUE=DATE:20251222
DTEND;VALUE=DATE:20260110
END:VEVENT
END:VCALENDAR
