BEGIN:VCALENDAR
VERSION:2.0
PRODID:SchoolNow
CALSCALE:GREGORIAN
BEGIN:VEVENT
UID:f020fb98-dc81-11f0-8f68-0a58a9feac02
DTSTAMP:20260424T095007Z
SUMMARY:Outstanding Wildcat Assembly 8:15 am - 9:00 am (MPR)
URL;VALUE=URI:https://www.sylvan.k12.ca.us/schools/woodrow/calendar/8826162
 /outstanding-wildcat-assembly-8-15-am-9-00-am-mpr
DTSTART;VALUE=DATE:20260227
DTEND;VALUE=DATE:20260228
END:VEVENT
END:VCALENDAR
