BEGIN:VCALENDAR
VERSION:2.0
PRODID:SchoolNow
CALSCALE:GREGORIAN
BEGIN:VEVENT
UID:f0210048-dc81-11f0-b483-0a58a9feac02
DTSTAMP:20260424T095007Z
SUMMARY:Shoob Spring Pictures (MPR)
URL;VALUE=URI:https://www.sylvan.k12.ca.us/schools/woodrow/calendar/8826164
 /shoob-spring-pictures-mpr
DTSTART;VALUE=DATE:20260220
DTEND;VALUE=DATE:20260221
END:VEVENT
END:VCALENDAR
