BEGIN:VCALENDAR
VERSION:2.0
PRODID:SchoolNow
CALSCALE:GREGORIAN
BEGIN:VEVENT
UID:f0210192-dc81-11f0-ac45-0a58a9feac02
DTSTAMP:20260424T095007Z
SUMMARY:Book Fair 2/2/26 - 2/6/26
URL;VALUE=URI:https://www.sylvan.k12.ca.us/schools/woodrow/calendar/8826165
 /book-fair-2-2-26-2-6-26
DTSTART;VALUE=DATE:20260202
DTEND;VALUE=DATE:20260207
END:VEVENT
END:VCALENDAR
