BEGIN:VCALENDAR
VERSION:2.0
PRODID:SchoolNow
CALSCALE:GREGORIAN
BEGIN:VEVENT
UID:f021028c-dc81-11f0-90f1-0a58a9feac02
DTSTAMP:20260424T095007Z
SUMMARY:Outstanding Wildcat Assembly (MPR) 8:15 am - 9:00  am
URL;VALUE=URI:https://www.sylvan.k12.ca.us/schools/woodrow/calendar/8826166
 /outstanding-wildcat-assembly-mpr-8-15-am-9-00-am
DTSTART;VALUE=DATE:20260130
DTEND;VALUE=DATE:20260131
END:VEVENT
END:VCALENDAR
