BEGIN:VCALENDAR
VERSION:2.0
PRODID:SchoolNow
CALSCALE:GREGORIAN
BEGIN:VEVENT
UID:f021044e-dc81-11f0-921a-0a58a9feac02
DTSTAMP:20260424T095007Z
SUMMARY:PTA Association Meeting 4:00pm - 5:00pm (Room 53)
URL;VALUE=URI:https://www.sylvan.k12.ca.us/schools/woodrow/calendar/8826167
 /pta-association-meeting-4-00pm-5-00pm-room-53
DTSTART;VALUE=DATE:20260219
DTEND;VALUE=DATE:20260220
END:VEVENT
END:VCALENDAR
