BEGIN:VCALENDAR
VERSION:2.0
PRODID:SchoolNow
CALSCALE:GREGORIAN
BEGIN:VEVENT
UID:f021053e-dc81-11f0-8971-0a58a9feac02
DTSTAMP:20260424T095007Z
SUMMARY:School Site Council Meeting 2:30 pm - 3:30 pm (Room 12)
URL;VALUE=URI:https://www.sylvan.k12.ca.us/schools/woodrow/calendar/8826168
 /school-site-council-meeting-2-30-pm-3-30-pm-room-12
DTSTART;VALUE=DATE:20260219
DTEND;VALUE=DATE:20260220
END:VEVENT
END:VCALENDAR
