BEGIN:VCALENDAR
VERSION:2.0
PRODID:SchoolNow
CALSCALE:GREGORIAN
BEGIN:VEVENT
UID:f021062e-dc81-11f0-aa8b-0a58a9feac02
DTSTAMP:20260424T095007Z
SUMMARY:Math & Science Night (MPR) 5:30pm - 7:00pm
URL;VALUE=URI:https://www.sylvan.k12.ca.us/schools/woodrow/calendar/8826169
 /math-science-night-mpr-5-30pm-7-00pm
DTSTART;VALUE=DATE:20260129
DTEND;VALUE=DATE:20260130
END:VEVENT
END:VCALENDAR
