BEGIN:VCALENDAR
VERSION:2.0
PRODID:SchoolNow
CALSCALE:GREGORIAN
BEGIN:VEVENT
UID:7f3fd086-dd4c-11f0-aae9-02101409491d
DTSTAMP:20260424T095007Z
SUMMARY:Book Fair 5/11/26-5/15/26
URL;VALUE=URI:https://www.sylvan.k12.ca.us/schools/woodrow/calendar/8826512
 /book-fair-5-11-26-5-15-26
DTSTART;VALUE=DATE:20260511
DTEND;VALUE=DATE:20260516
END:VEVENT
END:VCALENDAR
