BEGIN:VCALENDAR
VERSION:2.0
PRODID:SchoolNow
CALSCALE:GREGORIAN
BEGIN:VEVENT
UID:7f3fd716-dd4c-11f0-aa6e-02101409491d
DTSTAMP:20260424T095007Z
SUMMARY:Student Site Council Meeting 2:30pm - 3:30pm
URL;VALUE=URI:https://www.sylvan.k12.ca.us/schools/woodrow/calendar/8826515
 /student-site-council-meeting-2-30pm-3-30pm
DTSTART;VALUE=DATE:20260521
DTEND;VALUE=DATE:20260522
END:VEVENT
END:VCALENDAR
