BEGIN:VCALENDAR
VERSION:2.0
PRODID:SchoolNow
CALSCALE:GREGORIAN
BEGIN:VEVENT
UID:7f3fd90a-dd4c-11f0-b56f-02101409491d
DTSTAMP:20260424T095007Z
SUMMARY:Outstanding Wildcat Assembly 8:15am - 9:00am
URL;VALUE=URI:https://www.sylvan.k12.ca.us/schools/woodrow/calendar/8826516
 /outstanding-wildcat-assembly-8-15am-9-00am
DTSTART;VALUE=DATE:20260424
DTEND;VALUE=DATE:20260425
END:VEVENT
END:VCALENDAR
