BEGIN:VCALENDAR
VERSION:2.0
PRODID:SchoolNow
CALSCALE:GREGORIAN
BEGIN:VEVENT
UID:7f3fda04-dd4c-11f0-a4e7-02101409491d
DTSTAMP:20260424T095007Z
SUMMARY:Multicultural Night
URL;VALUE=URI:https://www.sylvan.k12.ca.us/schools/woodrow/calendar/8826517
 /multicultural-night
DTSTART;VALUE=DATE:20260424
DTEND;VALUE=DATE:20260425
END:VEVENT
END:VCALENDAR
