BEGIN:VCALENDAR
VERSION:2.0
PRODID:SchoolNow
CALSCALE:GREGORIAN
BEGIN:VEVENT
UID:7f3fdb1c-dd4c-11f0-8c58-02101409491d
DTSTAMP:20260424T095007Z
SUMMARY:Open House 6:00pm - 7:00pm
URL;VALUE=URI:https://www.sylvan.k12.ca.us/schools/woodrow/calendar/8826518
 /open-house-6-00pm-7-00pm
DTSTART;VALUE=DATE:20260514
DTEND;VALUE=DATE:20260515
END:VEVENT
END:VCALENDAR
