BEGIN:VCALENDAR
VERSION:2.0
PRODID:SchoolNow
CALSCALE:GREGORIAN
BEGIN:VEVENT
UID:7f3fdcca-dd4c-11f0-9c93-02101409491d
DTSTAMP:20260424T095007Z
SUMMARY:PTA Meeting 4:00pm - 5:00pm
URL;VALUE=URI:https://www.sylvan.k12.ca.us/schools/woodrow/calendar/8826519
 /pta-meeting-4-00pm-5-00pm
DTSTART;VALUE=DATE:20260521
DTEND;VALUE=DATE:20260522
END:VEVENT
END:VCALENDAR
