BEGIN:VCALENDAR
VERSION:2.0
PRODID:SchoolNow
CALSCALE:GREGORIAN
BEGIN:VEVENT
UID:7f3fde0a-dd4c-11f0-b999-02101409491d
DTSTAMP:20260424T095007Z
SUMMARY:Teacher Appreciation Week 5/4/26-5/8/26
URL;VALUE=URI:https://www.sylvan.k12.ca.us/schools/woodrow/calendar/8826520
 /teacher-appreciation-week-5-4-26-5-8-26
DTSTART;VALUE=DATE:20260504
DTEND;VALUE=DATE:20260509
END:VEVENT
END:VCALENDAR
