BEGIN:VCALENDAR
VERSION:2.0
PRODID:SchoolNow
CALSCALE:GREGORIAN
BEGIN:VEVENT
UID:17aeae68-ec53-11f0-8a21-0affd848d007
DTSTAMP:20260424T095007Z
SUMMARY:Minimum Day Release @ 1:25pm
URL;VALUE=URI:https://www.sylvan.k12.ca.us/schools/woodrow/calendar/8832693
 /minimum-day-release-1-25pm
DTSTART;VALUE=DATE:20260311
DTEND;VALUE=DATE:20260312
END:VEVENT
END:VCALENDAR
