BEGIN:VCALENDAR
VERSION:2.0
PRODID:SchoolNow
CALSCALE:GREGORIAN
BEGIN:VEVENT
UID:17aed640-ec53-11f0-b71b-0affd848d007
DTSTAMP:20260424T095007Z
SUMMARY:Minimum Day Release @ 1:25pm (Last Day of School)
URL;VALUE=URI:https://www.sylvan.k12.ca.us/schools/woodrow/calendar/8832700
 /minimum-day-release-1-25pm-last-day-of-school
DTSTART;VALUE=DATE:20260529
DTEND;VALUE=DATE:20260530
END:VEVENT
END:VCALENDAR
