BEGIN:VCALENDAR
VERSION:2.0
PRODID:SchoolNow
CALSCALE:GREGORIAN
BEGIN:VEVENT
UID:17aed78a-ec53-11f0-bcca-0affd848d007
DTSTAMP:20260424T095007Z
SUMMARY:Spring Break - No School  (March 23rd\, 2026 - March 27th\, 2026)
URL;VALUE=URI:https://www.sylvan.k12.ca.us/schools/woodrow/calendar/8832701
 /spring-break-no-school-march-23rd-2026-march-27th-2026
DTSTART;VALUE=DATE:20260323
DTEND;VALUE=DATE:20260328
END:VEVENT
END:VCALENDAR
