BEGIN:VCALENDAR
VERSION:2.0
PRODID:SchoolNow
CALSCALE:GREGORIAN
BEGIN:VEVENT
UID:a95a5558-2478-11f1-92f1-0233d7537c1b
DTSTAMP:20260424T095007Z
SUMMARY:5th Grade - Living History Museum 1:15pm - 2:00pm
URL;VALUE=URI:https://www.sylvan.k12.ca.us/schools/woodrow/calendar/8932710
 /5th-grade-living-history-museum-1-15pm-2-00pm
DTSTART;VALUE=DATE:20260508
DTEND;VALUE=DATE:20260509
END:VEVENT
END:VCALENDAR
