BEGIN:VCALENDAR
VERSION:2.0
PRODID:SchoolNow
CALSCALE:GREGORIAN
BEGIN:VEVENT
UID:d954399c-2d2c-11f1-a05f-0edc020be907
DTSTAMP:20260424T095007Z
SUMMARY:Good Friday - Holiday (No School)
URL;VALUE=URI:https://www.sylvan.k12.ca.us/schools/woodrow/calendar/8960869
 /good-friday-holiday-no-school
DTSTART;VALUE=DATE:20260403
DTEND;VALUE=DATE:20260404
END:VEVENT
END:VCALENDAR
